BEGIN:VCALENDAR
VERSION:2.0
PRODID:-//SVP Obwalden //NONSGML Events //EN
CALSCALE:GREGORIAN
X-WR-CALNAME:SVP Obwalden
BEGIN:VEVENT
CREATED:20251017T144517Z
UID:19888
DTEND:20251030T220000
DTSTART:20251030T193000
DTSTAMP:20260424T232459Z
LOCATION:Metzgern Sarnen
DESCRIPTION:Moderation: Sonia Kälin, Lehrperson und Schwingerkönigin Die SVP mö
SUMMARY:Podium Referendum Bildungsgesetz &#8211\; BiG-NEIN!
ORGANIZER:SVP Obwalden
URL;VALUE=URI:https://www.svp-ow.ch/termine/podium-referendum-bildungsgesetz-big-nein/
TRANSP:OPAQUE
END:VEVENT
END:VCALENDAR
