BEGIN:VCALENDAR
VERSION:2.0
PRODID:-//SVP Obwalden //NONSGML Events //EN
CALSCALE:GREGORIAN
X-WR-CALNAME:SVP Obwalden
BEGIN:VEVENT
CREATED:20241126T134013Z
UID:19442
DTEND:20251016T220000
DTSTART:20251016T200000
DTSTAMP:20260424T232459Z
LOCATION:Metzgern Sarnen
DESCRIPTION:Parolen für die Abstimmung vom 30. November 2025. JUSO-Enteignungsini
SUMMARY:Parteitag SVP Obwalden
ORGANIZER:
URL;VALUE=URI:https://www.svp-ow.ch/termine/parteitag-svp-obwalden-2-2/
TRANSP:OPAQUE
END:VEVENT
END:VCALENDAR
