BEGIN:VCALENDAR
VERSION:2.0
PRODID:-//SVP Obwalden //NONSGML Events //EN
CALSCALE:GREGORIAN
X-WR-CALNAME:SVP Obwalden
BEGIN:VEVENT
CREATED:20240812T131525Z
UID:19257
DTEND:20250320T000000
DTSTART:20250320T000000
DTSTAMP:20260422T000942Z
LOCATION:Rathaus Sarnen
DESCRIPTION:Mit unseren 13 SVP-Kantonsräten Wir politisieren verlässlich, wirtsc
SUMMARY:Kantonsratssitzung
ORGANIZER:
URL;VALUE=URI:https://www.svp-ow.ch/termine/kantonsratssitzung-12-2-2-2/
TRANSP:OPAQUE
END:VEVENT
END:VCALENDAR
